BEGIN:VCALENDAR
VERSION:2.0
PRODID:-//Yorkshire of Edina - ECPv6.11.2.1//NONSGML v1.0//EN
CALSCALE:GREGORIAN
METHOD:PUBLISH
X-ORIGINAL-URL:https://yorkshireofedina.com
X-WR-CALDESC:Events for Yorkshire of Edina
REFRESH-INTERVAL;VALUE=DURATION:PT1H
X-Robots-Tag:noindex
X-PUBLISHED-TTL:PT1H
BEGIN:VTIMEZONE
TZID:America/Chicago
BEGIN:DAYLIGHT
TZOFFSETFROM:-0600
TZOFFSETTO:-0500
TZNAME:CDT
DTSTART:20250309T080000
END:DAYLIGHT
BEGIN:STANDARD
TZOFFSETFROM:-0500
TZOFFSETTO:-0600
TZNAME:CST
DTSTART:20251102T070000
END:STANDARD
END:VTIMEZONE
BEGIN:VEVENT
DTSTART;TZID=America/Chicago:20251020T093000
DTEND;TZID=America/Chicago:20251020T103000
DTSTAMP:20260419T081649
CREATED:20250920T220121Z
LAST-MODIFIED:20251019T233026Z
UID:10002179-1760952600-1760956200@yorkshireofedina.com
SUMMARY:Music Relaxation
DESCRIPTION:
URL:https://yorkshireofedina.com/event-calendar/music-relaxation-56/
LOCATION:Near Nurse Station
CATEGORIES:Memory Care
END:VEVENT
BEGIN:VEVENT
DTSTART;TZID=America/Chicago:20251020T100000
DTEND;TZID=America/Chicago:20251020T110000
DTSTAMP:20260419T081649
CREATED:20250920T220122Z
LAST-MODIFIED:20251019T233026Z
UID:10002180-1760954400-1760958000@yorkshireofedina.com
SUMMARY:Coffee Social
DESCRIPTION:
URL:https://yorkshireofedina.com/event-calendar/coffee-social-22/
LOCATION:TV Room
CATEGORIES:Memory Care
END:VEVENT
BEGIN:VEVENT
DTSTART;TZID=America/Chicago:20251020T110000
DTEND;TZID=America/Chicago:20251020T120000
DTSTAMP:20260419T081649
CREATED:20250920T220122Z
LAST-MODIFIED:20251019T233026Z
UID:10002181-1760958000-1760961600@yorkshireofedina.com
SUMMARY:Aging Into Strength
DESCRIPTION:
URL:https://yorkshireofedina.com/event-calendar/aging-with-strength-11/
LOCATION:TV Room
CATEGORIES:Memory Care
END:VEVENT
BEGIN:VEVENT
DTSTART;TZID=America/Chicago:20251020T113000
DTEND;TZID=America/Chicago:20251020T123000
DTSTAMP:20260419T081649
CREATED:20250920T220122Z
LAST-MODIFIED:20251019T233026Z
UID:10002182-1760959800-1760963400@yorkshireofedina.com
SUMMARY:Oshibori
DESCRIPTION:
URL:https://yorkshireofedina.com/event-calendar/oshibori-136/
LOCATION:Dining Room
CATEGORIES:Memory Care
END:VEVENT
BEGIN:VEVENT
DTSTART;TZID=America/Chicago:20251020T140000
DTEND;TZID=America/Chicago:20251020T153000
DTSTAMP:20260419T081649
CREATED:20250920T220122Z
LAST-MODIFIED:20251019T233026Z
UID:10002183-1760968800-1760974200@yorkshireofedina.com
SUMMARY:Puzzles
DESCRIPTION:
URL:https://yorkshireofedina.com/event-calendar/puzzles-23/
LOCATION:Garden Room
CATEGORIES:Memory Care
END:VEVENT
BEGIN:VEVENT
DTSTART;TZID=America/Chicago:20251020T153000
DTEND;TZID=America/Chicago:20251020T163000
DTSTAMP:20260419T081649
CREATED:20250920T220122Z
LAST-MODIFIED:20251019T233026Z
UID:10002184-1760974200-1760977800@yorkshireofedina.com
SUMMARY:Manicure/ Hand Massages
DESCRIPTION:
URL:https://yorkshireofedina.com/event-calendar/manicure-hand-massages-45/
LOCATION:Garden Room
CATEGORIES:Memory Care
END:VEVENT
BEGIN:VEVENT
DTSTART;TZID=America/Chicago:20251020T163000
DTEND;TZID=America/Chicago:20251020T173000
DTSTAMP:20260419T081649
CREATED:20250920T220122Z
LAST-MODIFIED:20251019T233026Z
UID:10002185-1760977800-1760981400@yorkshireofedina.com
SUMMARY:Oshibori
DESCRIPTION:
URL:https://yorkshireofedina.com/event-calendar/oshibori-137/
LOCATION:Dining Room
CATEGORIES:Memory Care
END:VEVENT
BEGIN:VEVENT
DTSTART;TZID=America/Chicago:20251020T180000
DTEND;TZID=America/Chicago:20251020T190000
DTSTAMP:20260419T081649
CREATED:20250921T220037Z
LAST-MODIFIED:20251020T233026Z
UID:10002190-1760983200-1760986800@yorkshireofedina.com
SUMMARY:Activity with Aides
DESCRIPTION:
URL:https://yorkshireofedina.com/event-calendar/activity-with-aides-6/
LOCATION:TV Room
CATEGORIES:Memory Care
END:VEVENT
END:VCALENDAR