BEGIN:VCALENDAR
VERSION:2.0
PRODID:-//Yorkshire of Edina - ECPv6.11.2.1//NONSGML v1.0//EN
CALSCALE:GREGORIAN
METHOD:PUBLISH
X-ORIGINAL-URL:https://yorkshireofedina.com
X-WR-CALDESC:Events for Yorkshire of Edina
REFRESH-INTERVAL;VALUE=DURATION:PT1H
X-Robots-Tag:noindex
X-PUBLISHED-TTL:PT1H
BEGIN:VTIMEZONE
TZID:America/Chicago
BEGIN:DAYLIGHT
TZOFFSETFROM:-0600
TZOFFSETTO:-0500
TZNAME:CDT
DTSTART:20260308T080000
END:DAYLIGHT
BEGIN:STANDARD
TZOFFSETFROM:-0500
TZOFFSETTO:-0600
TZNAME:CST
DTSTART:20261101T070000
END:STANDARD
END:VTIMEZONE
BEGIN:VEVENT
DTSTART;TZID=America/Chicago:20260518T093000
DTEND;TZID=America/Chicago:20260518T103000
DTSTAMP:20260419T110403
CREATED:20260418T150134Z
LAST-MODIFIED:20260419T150150Z
UID:10005008-1779096600-1779100200@yorkshireofedina.com
SUMMARY:Music Relaxation
DESCRIPTION:
URL:https://yorkshireofedina.com/event-calendar/music-relaxation-206/
LOCATION:Near Nurse Station
CATEGORIES:Memory Care
END:VEVENT
BEGIN:VEVENT
DTSTART;TZID=America/Chicago:20260518T100000
DTEND;TZID=America/Chicago:20260518T110000
DTSTAMP:20260419T110403
CREATED:20260418T150134Z
LAST-MODIFIED:20260419T150151Z
UID:10005009-1779098400-1779102000@yorkshireofedina.com
SUMMARY:Coffee Social
DESCRIPTION:
URL:https://yorkshireofedina.com/event-calendar/coffee-social-172/
LOCATION:TV Room
CATEGORIES:Memory Care
END:VEVENT
BEGIN:VEVENT
DTSTART;TZID=America/Chicago:20260518T110000
DTEND;TZID=America/Chicago:20260518T120000
DTSTAMP:20260419T110403
CREATED:20260419T150151Z
LAST-MODIFIED:20260419T150151Z
UID:10005016-1779102000-1779105600@yorkshireofedina.com
SUMMARY:Aging Into Strength
DESCRIPTION:
URL:https://yorkshireofedina.com/event-calendar/aging-into-strength-142/
LOCATION:TV Room
CATEGORIES:Memory Care
END:VEVENT
BEGIN:VEVENT
DTSTART;TZID=America/Chicago:20260518T113000
DTEND;TZID=America/Chicago:20260518T123000
DTSTAMP:20260419T110403
CREATED:20260419T150151Z
LAST-MODIFIED:20260419T150151Z
UID:10005017-1779103800-1779107400@yorkshireofedina.com
SUMMARY:Oshibori
DESCRIPTION:
URL:https://yorkshireofedina.com/event-calendar/oshibori-436/
LOCATION:Dining Room
CATEGORIES:Memory Care
END:VEVENT
BEGIN:VEVENT
DTSTART;TZID=America/Chicago:20260518T140000
DTEND;TZID=America/Chicago:20260518T153000
DTSTAMP:20260419T110403
CREATED:20260419T150151Z
LAST-MODIFIED:20260419T150151Z
UID:10005018-1779112800-1779118200@yorkshireofedina.com
SUMMARY:Puzzles
DESCRIPTION:
URL:https://yorkshireofedina.com/event-calendar/puzzles-53/
LOCATION:Garden Room
CATEGORIES:Memory Care
END:VEVENT
BEGIN:VEVENT
DTSTART;TZID=America/Chicago:20260518T153000
DTEND;TZID=America/Chicago:20260518T163000
DTSTAMP:20260419T110403
CREATED:20260419T150152Z
LAST-MODIFIED:20260419T150152Z
UID:10005019-1779118200-1779121800@yorkshireofedina.com
SUMMARY:Manicure/ Hand & Face Massages
DESCRIPTION:
URL:https://yorkshireofedina.com/event-calendar/manicure-hand-face-massages-4/
LOCATION:Garden Room
CATEGORIES:Memory Care
END:VEVENT
BEGIN:VEVENT
DTSTART;TZID=America/Chicago:20260518T163000
DTEND;TZID=America/Chicago:20260518T173000
DTSTAMP:20260419T110403
CREATED:20260419T150152Z
LAST-MODIFIED:20260419T150152Z
UID:10005020-1779121800-1779125400@yorkshireofedina.com
SUMMARY:Oshibori
DESCRIPTION:
URL:https://yorkshireofedina.com/event-calendar/oshibori-437/
LOCATION:Dining Room
CATEGORIES:Memory Care
END:VEVENT
BEGIN:VEVENT
DTSTART;TZID=America/Chicago:20260518T180000
DTEND;TZID=America/Chicago:20260518T190000
DTSTAMP:20260419T110403
CREATED:20260419T150152Z
LAST-MODIFIED:20260419T150152Z
UID:10005021-1779127200-1779130800@yorkshireofedina.com
SUMMARY:Evening Activity with Kim
DESCRIPTION:
URL:https://yorkshireofedina.com/event-calendar/evening-activity-with-kim-19/
LOCATION:TV Room
CATEGORIES:Memory Care
END:VEVENT
BEGIN:VEVENT
DTSTART;TZID=America/Chicago:20260518T184500
DTEND;TZID=America/Chicago:20260518T194500
DTSTAMP:20260419T110403
CREATED:20260419T150153Z
LAST-MODIFIED:20260419T150153Z
UID:10005022-1779129900-1779133500@yorkshireofedina.com
SUMMARY:Activity with Kim
DESCRIPTION:
URL:https://yorkshireofedina.com/event-calendar/activity-with-kim-74/
LOCATION:TV Room
CATEGORIES:Memory Care
END:VEVENT
END:VCALENDAR