BEGIN:VCALENDAR
VERSION:2.0
PRODID:-//Yorkshire of Edina - ECPv6.11.2.1//NONSGML v1.0//EN
CALSCALE:GREGORIAN
METHOD:PUBLISH
X-WR-CALNAME:Yorkshire of Edina
X-ORIGINAL-URL:https://yorkshireofedina.com
X-WR-CALDESC:Events for Yorkshire of Edina
REFRESH-INTERVAL;VALUE=DURATION:PT1H
X-Robots-Tag:noindex
X-PUBLISHED-TTL:PT1H
BEGIN:VTIMEZONE
TZID:America/Chicago
BEGIN:DAYLIGHT
TZOFFSETFROM:-0600
TZOFFSETTO:-0500
TZNAME:CDT
DTSTART:20260308T080000
END:DAYLIGHT
BEGIN:STANDARD
TZOFFSETFROM:-0500
TZOFFSETTO:-0600
TZNAME:CST
DTSTART:20261101T070000
END:STANDARD
END:VTIMEZONE
BEGIN:VEVENT
DTSTART;TZID=America/Chicago:20260518T180000
DTEND;TZID=America/Chicago:20260518T190000
DTSTAMP:20260420T221737
CREATED:20260419T150152Z
LAST-MODIFIED:20260420T150152Z
UID:10005021-1779127200-1779130800@yorkshireofedina.com
SUMMARY:Evening Activity with Kim
DESCRIPTION:
URL:https://yorkshireofedina.com/event-calendar/evening-activity-with-kim-19/
LOCATION:TV Room
CATEGORIES:Memory Care
END:VEVENT
BEGIN:VEVENT
DTSTART;TZID=America/Chicago:20260518T180000
DTEND;TZID=America/Chicago:20260518T190000
DTSTAMP:20260420T221737
CREATED:20260419T160056Z
LAST-MODIFIED:20260420T160129Z
UID:10005028-1779127200-1779130800@yorkshireofedina.com
SUMMARY:99 Card Game
DESCRIPTION:
URL:https://yorkshireofedina.com/event-calendar/99-card-game-53/
LOCATION:Bistro
CATEGORIES:Independent Living
END:VEVENT
BEGIN:VEVENT
DTSTART;TZID=America/Chicago:20260518T184500
DTEND;TZID=America/Chicago:20260518T194500
DTSTAMP:20260420T221737
CREATED:20260419T150153Z
LAST-MODIFIED:20260420T150151Z
UID:10005022-1779129900-1779133500@yorkshireofedina.com
SUMMARY:Activity with Kim
DESCRIPTION:
URL:https://yorkshireofedina.com/event-calendar/activity-with-kim-74/
LOCATION:TV Room
CATEGORIES:Memory Care
END:VEVENT
BEGIN:VEVENT
DTSTART;TZID=America/Chicago:20260518T190000
DTEND;TZID=America/Chicago:20260518T200000
DTSTAMP:20260420T221737
CREATED:20260419T160057Z
LAST-MODIFIED:20260420T160129Z
UID:10005029-1779130800-1779134400@yorkshireofedina.com
SUMMARY:Skipbo
DESCRIPTION:
URL:https://yorkshireofedina.com/event-calendar/skipbo-53/
LOCATION:Bistro
CATEGORIES:Independent Living
END:VEVENT
BEGIN:VEVENT
DTSTART;TZID=America/Chicago:20260519T093000
DTEND;TZID=America/Chicago:20260519T103000
DTSTAMP:20260420T221737
CREATED:20260419T150153Z
LAST-MODIFIED:20260420T150152Z
UID:10005023-1779183000-1779186600@yorkshireofedina.com
SUMMARY:Music Relaxation
DESCRIPTION:
URL:https://yorkshireofedina.com/event-calendar/music-relaxation-207/
LOCATION:Near Nurse Station
CATEGORIES:Memory Care
END:VEVENT
BEGIN:VEVENT
DTSTART;TZID=America/Chicago:20260519T100000
DTEND;TZID=America/Chicago:20260519T110000
DTSTAMP:20260420T221737
CREATED:20260419T150153Z
LAST-MODIFIED:20260420T150152Z
UID:10005024-1779184800-1779188400@yorkshireofedina.com
SUMMARY:Coffee Social
DESCRIPTION:
URL:https://yorkshireofedina.com/event-calendar/coffee-social-173/
LOCATION:TV Room
CATEGORIES:Memory Care
END:VEVENT
BEGIN:VEVENT
DTSTART;TZID=America/Chicago:20260519T100000
DTEND;TZID=America/Chicago:20260519T110000
DTSTAMP:20260420T221737
CREATED:20260419T150154Z
LAST-MODIFIED:20260420T150152Z
UID:10005025-1779184800-1779188400@yorkshireofedina.com
SUMMARY:Worship Service
DESCRIPTION:
URL:https://yorkshireofedina.com/event-calendar/worship-service-106/
LOCATION:TV Room
CATEGORIES:Memory Care
END:VEVENT
BEGIN:VEVENT
DTSTART;TZID=America/Chicago:20260519T100000
DTEND;TZID=America/Chicago:20260519T110000
DTSTAMP:20260420T221737
CREATED:20260419T160057Z
LAST-MODIFIED:20260420T160129Z
UID:10005030-1779184800-1779188400@yorkshireofedina.com
SUMMARY:Exercise w/ Lisa
DESCRIPTION:
URL:https://yorkshireofedina.com/event-calendar/exercise-w-lisa-53/
LOCATION:Community Room
CATEGORIES:Independent Living
END:VEVENT
BEGIN:VEVENT
DTSTART;TZID=America/Chicago:20260519T110000
DTEND;TZID=America/Chicago:20260519T120000
DTSTAMP:20260420T221737
CREATED:20260419T160057Z
LAST-MODIFIED:20260420T160129Z
UID:10005031-1779188400-1779192000@yorkshireofedina.com
SUMMARY:Spiritual Activity w/ Chaplain
DESCRIPTION:
URL:https://yorkshireofedina.com/event-calendar/spiritual-activity-w-chaplain/
LOCATION:Community Room
CATEGORIES:Independent Living
END:VEVENT
BEGIN:VEVENT
DTSTART;TZID=America/Chicago:20260519T110000
DTEND;TZID=America/Chicago:20260519T120000
DTSTAMP:20260420T221737
CREATED:20260420T150153Z
LAST-MODIFIED:20260420T150153Z
UID:10005032-1779188400-1779192000@yorkshireofedina.com
SUMMARY:Aging Into Strength
DESCRIPTION:
URL:https://yorkshireofedina.com/event-calendar/aging-into-strength-143/
LOCATION:TV Room
CATEGORIES:Memory Care
END:VEVENT
BEGIN:VEVENT
DTSTART;TZID=America/Chicago:20260519T113000
DTEND;TZID=America/Chicago:20260519T123000
DTSTAMP:20260420T221737
CREATED:20260420T150153Z
LAST-MODIFIED:20260420T150153Z
UID:10005033-1779190200-1779193800@yorkshireofedina.com
SUMMARY:Oshibori
DESCRIPTION:
URL:https://yorkshireofedina.com/event-calendar/oshibori-438/
LOCATION:Dining Room
CATEGORIES:Memory Care
END:VEVENT
BEGIN:VEVENT
DTSTART;TZID=America/Chicago:20260519T130000
DTEND;TZID=America/Chicago:20260519T140000
DTSTAMP:20260420T221737
CREATED:20260420T150153Z
LAST-MODIFIED:20260420T160129Z
UID:10005034-1779195600-1779199200@yorkshireofedina.com
SUMMARY:Robot Soccer Competition
DESCRIPTION:
URL:https://yorkshireofedina.com/event-calendar/robot-soccer-competition-4/
LOCATION:Community Room
CATEGORIES:Independent Living,Memory Care
END:VEVENT
BEGIN:VEVENT
DTSTART;TZID=America/Chicago:20260519T140000
DTEND;TZID=America/Chicago:20260519T150000
DTSTAMP:20260420T221737
CREATED:20260420T150153Z
LAST-MODIFIED:20260420T150153Z
UID:10005035-1779199200-1779202800@yorkshireofedina.com
SUMMARY:Bingo
DESCRIPTION:
URL:https://yorkshireofedina.com/event-calendar/bingo-181/
LOCATION:Garden Room
CATEGORIES:Memory Care
END:VEVENT
BEGIN:VEVENT
DTSTART;TZID=America/Chicago:20260519T143000
DTEND;TZID=America/Chicago:20260519T153000
DTSTAMP:20260420T221737
CREATED:20260420T160129Z
LAST-MODIFIED:20260420T160129Z
UID:10005043-1779201000-1779204600@yorkshireofedina.com
SUMMARY:Chef Chat
DESCRIPTION:
URL:https://yorkshireofedina.com/event-calendar/chef-chat-14/
LOCATION:Dining Room
CATEGORIES:Independent Living
END:VEVENT
BEGIN:VEVENT
DTSTART;TZID=America/Chicago:20260519T150000
DTEND;TZID=America/Chicago:20260519T160000
DTSTAMP:20260420T221737
CREATED:20260420T160129Z
LAST-MODIFIED:20260420T160129Z
UID:10005044-1779202800-1779206400@yorkshireofedina.com
SUMMARY:Bells Music Class
DESCRIPTION:
URL:https://yorkshireofedina.com/event-calendar/bells-music-class-26/
LOCATION:Community Room
CATEGORIES:Independent Living
END:VEVENT
BEGIN:VEVENT
DTSTART;TZID=America/Chicago:20260519T153000
DTEND;TZID=America/Chicago:20260519T163000
DTSTAMP:20260420T221737
CREATED:20260420T150153Z
LAST-MODIFIED:20260420T150153Z
UID:10005036-1779204600-1779208200@yorkshireofedina.com
SUMMARY:Cookie Baking/ Popcorn Social
DESCRIPTION:
URL:https://yorkshireofedina.com/event-calendar/cookie-baking-popcorn-social-47/
LOCATION:Garden Room
CATEGORIES:Memory Care
END:VEVENT
BEGIN:VEVENT
DTSTART;TZID=America/Chicago:20260519T153000
DTEND;TZID=America/Chicago:20260519T163000
DTSTAMP:20260420T221737
CREATED:20260420T150154Z
LAST-MODIFIED:20260420T150154Z
UID:10005037-1779204600-1779208200@yorkshireofedina.com
SUMMARY:Music Concert with Brad
DESCRIPTION:
URL:https://yorkshireofedina.com/event-calendar/music-concert-with-brad-14/
LOCATION:TV Room
CATEGORIES:Memory Care
END:VEVENT
BEGIN:VEVENT
DTSTART;TZID=America/Chicago:20260519T163000
DTEND;TZID=America/Chicago:20260519T173000
DTSTAMP:20260420T221737
CREATED:20260420T150154Z
LAST-MODIFIED:20260420T150154Z
UID:10005038-1779208200-1779211800@yorkshireofedina.com
SUMMARY:Oshibori
DESCRIPTION:
URL:https://yorkshireofedina.com/event-calendar/oshibori-439/
LOCATION:Dining Room
CATEGORIES:Memory Care
END:VEVENT
BEGIN:VEVENT
DTSTART;TZID=America/Chicago:20260519T180000
DTEND;TZID=America/Chicago:20260519T190000
DTSTAMP:20260420T221737
CREATED:20260420T150154Z
LAST-MODIFIED:20260420T150154Z
UID:10005039-1779213600-1779217200@yorkshireofedina.com
SUMMARY:Watercolor Painting with Kim
DESCRIPTION:
URL:https://yorkshireofedina.com/event-calendar/watercolor-painting-with-kim-19/
LOCATION:Garden Room
CATEGORIES:Memory Care
END:VEVENT
BEGIN:VEVENT
DTSTART;TZID=America/Chicago:20260519T180000
DTEND;TZID=America/Chicago:20260519T190000
DTSTAMP:20260420T221737
CREATED:20260420T160129Z
LAST-MODIFIED:20260420T160129Z
UID:10005045-1779213600-1779217200@yorkshireofedina.com
SUMMARY:Canasta
DESCRIPTION:
URL:https://yorkshireofedina.com/event-calendar/canasta-53/
LOCATION:Bistro
CATEGORIES:Independent Living
END:VEVENT
BEGIN:VEVENT
DTSTART;TZID=America/Chicago:20260519T184500
DTEND;TZID=America/Chicago:20260519T194500
DTSTAMP:20260420T221737
CREATED:20260420T150154Z
LAST-MODIFIED:20260420T150154Z
UID:10005040-1779216300-1779219900@yorkshireofedina.com
SUMMARY:Activity with Kim
DESCRIPTION:
URL:https://yorkshireofedina.com/event-calendar/activity-with-kim-75/
LOCATION:Garden Room
CATEGORIES:Memory Care
END:VEVENT
BEGIN:VEVENT
DTSTART;TZID=America/Chicago:20260520T093000
DTEND;TZID=America/Chicago:20260520T103000
DTSTAMP:20260420T221737
CREATED:20260420T150154Z
LAST-MODIFIED:20260420T150154Z
UID:10005041-1779269400-1779273000@yorkshireofedina.com
SUMMARY:Music Relaxation
DESCRIPTION:
URL:https://yorkshireofedina.com/event-calendar/music-relaxation-208/
LOCATION:Near Nurse Station
CATEGORIES:Memory Care
END:VEVENT
BEGIN:VEVENT
DTSTART;TZID=America/Chicago:20260520T100000
DTEND;TZID=America/Chicago:20260520T110000
DTSTAMP:20260420T221737
CREATED:20260420T150154Z
LAST-MODIFIED:20260420T150154Z
UID:10005042-1779271200-1779274800@yorkshireofedina.com
SUMMARY:Coffee Social
DESCRIPTION:
URL:https://yorkshireofedina.com/event-calendar/coffee-social-174/
LOCATION:TV Room
CATEGORIES:Memory Care
END:VEVENT
BEGIN:VEVENT
DTSTART;TZID=America/Chicago:20260520T100000
DTEND;TZID=America/Chicago:20260520T110000
DTSTAMP:20260420T221737
CREATED:20260420T160129Z
LAST-MODIFIED:20260420T160129Z
UID:10005046-1779271200-1779274800@yorkshireofedina.com
SUMMARY:Exercise: Bands
DESCRIPTION:
URL:https://yorkshireofedina.com/event-calendar/exercise-bands-53/
LOCATION:Community Room
CATEGORIES:Independent Living
END:VEVENT
END:VCALENDAR