BEGIN:VCALENDAR
VERSION:2.0
PRODID:-//Yorkshire of Edina - ECPv6.11.2.1//NONSGML v1.0//EN
CALSCALE:GREGORIAN
METHOD:PUBLISH
X-ORIGINAL-URL:https://yorkshireofedina.com
X-WR-CALDESC:Events for Yorkshire of Edina
REFRESH-INTERVAL;VALUE=DURATION:PT1H
X-Robots-Tag:noindex
X-PUBLISHED-TTL:PT1H
BEGIN:VTIMEZONE
TZID:America/Chicago
BEGIN:DAYLIGHT
TZOFFSETFROM:-0600
TZOFFSETTO:-0500
TZNAME:CDT
DTSTART:20260308T080000
END:DAYLIGHT
BEGIN:STANDARD
TZOFFSETFROM:-0500
TZOFFSETTO:-0600
TZNAME:CST
DTSTART:20261101T070000
END:STANDARD
END:VTIMEZONE
BEGIN:VEVENT
DTSTART;TZID=America/Chicago:20260519T163000
DTEND;TZID=America/Chicago:20260519T173000
DTSTAMP:20260422T230714
CREATED:20260420T150154Z
LAST-MODIFIED:20260422T152056Z
UID:10005038-1779208200-1779211800@yorkshireofedina.com
SUMMARY:Oshibori
DESCRIPTION:
URL:https://yorkshireofedina.com/event-calendar/oshibori-439/
LOCATION:Dining Room
CATEGORIES:Memory Care
END:VEVENT
BEGIN:VEVENT
DTSTART;TZID=America/Chicago:20260519T180000
DTEND;TZID=America/Chicago:20260519T190000
DTSTAMP:20260422T230714
CREATED:20260420T150154Z
LAST-MODIFIED:20260422T152056Z
UID:10005039-1779213600-1779217200@yorkshireofedina.com
SUMMARY:Watercolor Painting with Kim
DESCRIPTION:
URL:https://yorkshireofedina.com/event-calendar/watercolor-painting-with-kim-19/
LOCATION:Garden Room
CATEGORIES:Memory Care
END:VEVENT
BEGIN:VEVENT
DTSTART;TZID=America/Chicago:20260519T180000
DTEND;TZID=America/Chicago:20260519T190000
DTSTAMP:20260422T230714
CREATED:20260420T160129Z
LAST-MODIFIED:20260422T160114Z
UID:10005045-1779213600-1779217200@yorkshireofedina.com
SUMMARY:Canasta
DESCRIPTION:
URL:https://yorkshireofedina.com/event-calendar/canasta-53/
LOCATION:Bistro
CATEGORIES:Independent Living
END:VEVENT
BEGIN:VEVENT
DTSTART;TZID=America/Chicago:20260519T184500
DTEND;TZID=America/Chicago:20260519T194500
DTSTAMP:20260422T230714
CREATED:20260420T150154Z
LAST-MODIFIED:20260422T152056Z
UID:10005040-1779216300-1779219900@yorkshireofedina.com
SUMMARY:Activity with Kim
DESCRIPTION:
URL:https://yorkshireofedina.com/event-calendar/activity-with-kim-75/
LOCATION:Garden Room
CATEGORIES:Memory Care
END:VEVENT
BEGIN:VEVENT
DTSTART;TZID=America/Chicago:20260520T093000
DTEND;TZID=America/Chicago:20260520T103000
DTSTAMP:20260422T230714
CREATED:20260420T150154Z
LAST-MODIFIED:20260422T152057Z
UID:10005041-1779269400-1779273000@yorkshireofedina.com
SUMMARY:Music Relaxation
DESCRIPTION:
URL:https://yorkshireofedina.com/event-calendar/music-relaxation-208/
LOCATION:Near Nurse Station
CATEGORIES:Memory Care
END:VEVENT
BEGIN:VEVENT
DTSTART;TZID=America/Chicago:20260520T100000
DTEND;TZID=America/Chicago:20260520T110000
DTSTAMP:20260422T230714
CREATED:20260420T150154Z
LAST-MODIFIED:20260422T152057Z
UID:10005042-1779271200-1779274800@yorkshireofedina.com
SUMMARY:Coffee Social
DESCRIPTION:
URL:https://yorkshireofedina.com/event-calendar/coffee-social-174/
LOCATION:TV Room
CATEGORIES:Memory Care
END:VEVENT
BEGIN:VEVENT
DTSTART;TZID=America/Chicago:20260520T100000
DTEND;TZID=America/Chicago:20260520T110000
DTSTAMP:20260422T230714
CREATED:20260420T160129Z
LAST-MODIFIED:20260422T160114Z
UID:10005046-1779271200-1779274800@yorkshireofedina.com
SUMMARY:Exercise: Bands
DESCRIPTION:
URL:https://yorkshireofedina.com/event-calendar/exercise-bands-53/
LOCATION:Community Room
CATEGORIES:Independent Living
END:VEVENT
BEGIN:VEVENT
DTSTART;TZID=America/Chicago:20260520T110000
DTEND;TZID=America/Chicago:20260520T120000
DTSTAMP:20260422T230714
CREATED:20260421T150126Z
LAST-MODIFIED:20260422T152057Z
UID:10005047-1779274800-1779278400@yorkshireofedina.com
SUMMARY:Aging Into Strength
DESCRIPTION:
URL:https://yorkshireofedina.com/event-calendar/aging-into-strength-144/
LOCATION:TV Room
CATEGORIES:Memory Care
END:VEVENT
BEGIN:VEVENT
DTSTART;TZID=America/Chicago:20260520T113000
DTEND;TZID=America/Chicago:20260520T123000
DTSTAMP:20260422T230714
CREATED:20260421T150126Z
LAST-MODIFIED:20260422T152057Z
UID:10005048-1779276600-1779280200@yorkshireofedina.com
SUMMARY:Oshibori
DESCRIPTION:
URL:https://yorkshireofedina.com/event-calendar/oshibori-440/
LOCATION:Dining Room
CATEGORIES:Memory Care
END:VEVENT
BEGIN:VEVENT
DTSTART;TZID=America/Chicago:20260520T140000
DTEND;TZID=America/Chicago:20260520T150000
DTSTAMP:20260422T230714
CREATED:20260421T150127Z
LAST-MODIFIED:20260422T152108Z
UID:10005049-1779285600-1779289200@yorkshireofedina.com
SUMMARY:Classroom Experience
DESCRIPTION:
URL:https://yorkshireofedina.com/event-calendar/classroom-experience-52/
LOCATION:Garden Room
CATEGORIES:Memory Care
END:VEVENT
BEGIN:VEVENT
DTSTART;TZID=America/Chicago:20260520T153000
DTEND;TZID=America/Chicago:20260520T163000
DTSTAMP:20260422T230714
CREATED:20260421T150128Z
LAST-MODIFIED:20260422T152108Z
UID:10005050-1779291000-1779294600@yorkshireofedina.com
SUMMARY:Manicure/ Hand & Face Massages
DESCRIPTION:
URL:https://yorkshireofedina.com/event-calendar/manicure-hand-face-massages-5/
LOCATION:Garden Room
CATEGORIES:Memory Care
END:VEVENT
BEGIN:VEVENT
DTSTART;TZID=America/Chicago:20260520T163000
DTEND;TZID=America/Chicago:20260520T173000
DTSTAMP:20260422T230714
CREATED:20260421T150128Z
LAST-MODIFIED:20260422T152108Z
UID:10005051-1779294600-1779298200@yorkshireofedina.com
SUMMARY:Oshibori
DESCRIPTION:
URL:https://yorkshireofedina.com/event-calendar/oshibori-441/
LOCATION:Dining Room
CATEGORIES:Memory Care
END:VEVENT
BEGIN:VEVENT
DTSTART;TZID=America/Chicago:20260520T180000
DTEND;TZID=America/Chicago:20260520T190000
DTSTAMP:20260422T230714
CREATED:20260421T150129Z
LAST-MODIFIED:20260422T152108Z
UID:10005052-1779300000-1779303600@yorkshireofedina.com
SUMMARY:Yoga and Armchair Travel with Lisa
DESCRIPTION:
URL:https://yorkshireofedina.com/event-calendar/yoga-and-armchair-travel-with-lisa-53/
LOCATION:TV Room
CATEGORIES:Memory Care
END:VEVENT
BEGIN:VEVENT
DTSTART;TZID=America/Chicago:20260520T180000
DTEND;TZID=America/Chicago:20260520T190000
DTSTAMP:20260422T230714
CREATED:20260421T160051Z
LAST-MODIFIED:20260422T160115Z
UID:10005058-1779300000-1779303600@yorkshireofedina.com
SUMMARY:Kings in the Corner Card Game
DESCRIPTION:
URL:https://yorkshireofedina.com/event-calendar/kings-in-the-corner-card-game-107/
LOCATION:Bistro
CATEGORIES:Independent Living
END:VEVENT
BEGIN:VEVENT
DTSTART;TZID=America/Chicago:20260521T093000
DTEND;TZID=America/Chicago:20260521T103000
DTSTAMP:20260422T230714
CREATED:20260421T150129Z
LAST-MODIFIED:20260422T152108Z
UID:10005053-1779355800-1779359400@yorkshireofedina.com
SUMMARY:Music Relaxation
DESCRIPTION:
URL:https://yorkshireofedina.com/event-calendar/music-relaxation-209/
LOCATION:Near Nurse Station
CATEGORIES:Memory Care
END:VEVENT
BEGIN:VEVENT
DTSTART;TZID=America/Chicago:20260521T100000
DTEND;TZID=America/Chicago:20260521T110000
DTSTAMP:20260422T230714
CREATED:20260421T150129Z
LAST-MODIFIED:20260422T152109Z
UID:10005054-1779357600-1779361200@yorkshireofedina.com
SUMMARY:Coffee Social
DESCRIPTION:
URL:https://yorkshireofedina.com/event-calendar/coffee-social-175/
LOCATION:TV Room
CATEGORIES:Memory Care
END:VEVENT
BEGIN:VEVENT
DTSTART;TZID=America/Chicago:20260521T100000
DTEND;TZID=America/Chicago:20260521T110000
DTSTAMP:20260422T230714
CREATED:20260421T150130Z
LAST-MODIFIED:20260422T152109Z
UID:10005055-1779357600-1779361200@yorkshireofedina.com
SUMMARY:Worship Service
DESCRIPTION:
URL:https://yorkshireofedina.com/event-calendar/worship-service-107/
LOCATION:TV Room
CATEGORIES:Memory Care
END:VEVENT
BEGIN:VEVENT
DTSTART;TZID=America/Chicago:20260521T100000
DTEND;TZID=America/Chicago:20260521T110000
DTSTAMP:20260422T230714
CREATED:20260421T160051Z
LAST-MODIFIED:20260422T160115Z
UID:10005059-1779357600-1779361200@yorkshireofedina.com
SUMMARY:Exercise w/ Katharina
DESCRIPTION:
URL:https://yorkshireofedina.com/event-calendar/exercise-w-katharina-27/
LOCATION:Community Room
CATEGORIES:Independent Living
END:VEVENT
BEGIN:VEVENT
DTSTART;TZID=America/Chicago:20260521T104500
DTEND;TZID=America/Chicago:20260521T114500
DTSTAMP:20260422T230714
CREATED:20260422T152109Z
LAST-MODIFIED:20260422T152109Z
UID:10005061-1779360300-1779363900@yorkshireofedina.com
SUMMARY:Animal Therapy
DESCRIPTION:
URL:https://yorkshireofedina.com/event-calendar/animal-therapy-12/
LOCATION:TV Room
CATEGORIES:Memory Care
END:VEVENT
BEGIN:VEVENT
DTSTART;TZID=America/Chicago:20260521T110000
DTEND;TZID=America/Chicago:20260521T120000
DTSTAMP:20260422T230714
CREATED:20260421T160051Z
LAST-MODIFIED:20260422T160115Z
UID:10005060-1779361200-1779364800@yorkshireofedina.com
SUMMARY:Bible Study w/ Chaplain
DESCRIPTION:
URL:https://yorkshireofedina.com/event-calendar/bible-study-w-chaplain-3/
LOCATION:Community Room
CATEGORIES:Independent Living
END:VEVENT
BEGIN:VEVENT
DTSTART;TZID=America/Chicago:20260521T110000
DTEND;TZID=America/Chicago:20260521T120000
DTSTAMP:20260422T230714
CREATED:20260422T152109Z
LAST-MODIFIED:20260422T152109Z
UID:10005062-1779361200-1779364800@yorkshireofedina.com
SUMMARY:Aging Into Strength
DESCRIPTION:
URL:https://yorkshireofedina.com/event-calendar/aging-into-strength-145/
LOCATION:TV Room
CATEGORIES:Memory Care
END:VEVENT
BEGIN:VEVENT
DTSTART;TZID=America/Chicago:20260521T112500
DTEND;TZID=America/Chicago:20260521T122500
DTSTAMP:20260422T230714
CREATED:20260422T160116Z
LAST-MODIFIED:20260422T160116Z
UID:10005070-1779362700-1779366300@yorkshireofedina.com
SUMMARY:Animal Therapy
DESCRIPTION:
URL:https://yorkshireofedina.com/event-calendar/animal-therapy-13/
LOCATION:Bistro
CATEGORIES:Independent Living
END:VEVENT
BEGIN:VEVENT
DTSTART;TZID=America/Chicago:20260521T113000
DTEND;TZID=America/Chicago:20260521T123000
DTSTAMP:20260422T230714
CREATED:20260422T152109Z
LAST-MODIFIED:20260422T152109Z
UID:10005063-1779363000-1779366600@yorkshireofedina.com
SUMMARY:Oshibori
DESCRIPTION:
URL:https://yorkshireofedina.com/event-calendar/oshibori-442/
LOCATION:Dining Room
CATEGORIES:Memory Care
END:VEVENT
BEGIN:VEVENT
DTSTART;TZID=America/Chicago:20260521T133000
DTEND;TZID=America/Chicago:20260521T143000
DTSTAMP:20260422T230714
CREATED:20260422T160116Z
LAST-MODIFIED:20260422T160116Z
UID:10005071-1779370200-1779373800@yorkshireofedina.com
SUMMARY:Robot Soccer Practice
DESCRIPTION:
URL:https://yorkshireofedina.com/event-calendar/robot-soccer-practice-25/
LOCATION:Community Room
CATEGORIES:Independent Living
END:VEVENT
BEGIN:VEVENT
DTSTART;TZID=America/Chicago:20260521T140000
DTEND;TZID=America/Chicago:20260521T150000
DTSTAMP:20260422T230714
CREATED:20260422T152121Z
LAST-MODIFIED:20260422T152121Z
UID:10005064-1779372000-1779375600@yorkshireofedina.com
SUMMARY:Sing Along\, Dance and Ice Cream Thursday
DESCRIPTION:
URL:https://yorkshireofedina.com/event-calendar/sing-along-dance-and-ice-cream-thursday-24/
LOCATION:TV Room
CATEGORIES:Memory Care
END:VEVENT
BEGIN:VEVENT
DTSTART;TZID=America/Chicago:20260521T150000
DTEND;TZID=America/Chicago:20260521T160000
DTSTAMP:20260422T230714
CREATED:20260422T152121Z
LAST-MODIFIED:20260422T152121Z
UID:10005065-1779375600-1779379200@yorkshireofedina.com
SUMMARY:Music Wellness and Ice Cream Thursday/ Trivia
DESCRIPTION:
URL:https://yorkshireofedina.com/event-calendar/music-wellness-and-ice-cream-thursday-trivia-17/
LOCATION:TV Room
CATEGORIES:Memory Care
END:VEVENT
BEGIN:VEVENT
DTSTART;TZID=America/Chicago:20260521T151500
DTEND;TZID=America/Chicago:20260521T161500
DTSTAMP:20260422T230714
CREATED:20260422T160117Z
LAST-MODIFIED:20260422T160117Z
UID:10005072-1779376500-1779380100@yorkshireofedina.com
SUMMARY:Bingo
DESCRIPTION:
URL:https://yorkshireofedina.com/event-calendar/bingo-182/
LOCATION:Wellness Room
CATEGORIES:Independent Living
END:VEVENT
BEGIN:VEVENT
DTSTART;TZID=America/Chicago:20260521T163000
DTEND;TZID=America/Chicago:20260521T173000
DTSTAMP:20260422T230714
CREATED:20260422T152121Z
LAST-MODIFIED:20260422T152121Z
UID:10005066-1779381000-1779384600@yorkshireofedina.com
SUMMARY:Oshibori
DESCRIPTION:
URL:https://yorkshireofedina.com/event-calendar/oshibori-443/
LOCATION:Dining Room
CATEGORIES:Memory Care
END:VEVENT
BEGIN:VEVENT
DTSTART;TZID=America/Chicago:20260521T180000
DTEND;TZID=America/Chicago:20260521T190000
DTSTAMP:20260422T230714
CREATED:20260422T152122Z
LAST-MODIFIED:20260422T152122Z
UID:10005067-1779386400-1779390000@yorkshireofedina.com
SUMMARY:Games with Lisa
DESCRIPTION:
URL:https://yorkshireofedina.com/event-calendar/games-with-lisa-9/
LOCATION:TV Room
CATEGORIES:Memory Care
END:VEVENT
BEGIN:VEVENT
DTSTART;TZID=America/Chicago:20260521T180000
DTEND;TZID=America/Chicago:20260521T190000
DTSTAMP:20260422T230714
CREATED:20260422T160117Z
LAST-MODIFIED:20260422T160117Z
UID:10005073-1779386400-1779390000@yorkshireofedina.com
SUMMARY:Rummikub & 500 Card Game
DESCRIPTION:
URL:https://yorkshireofedina.com/event-calendar/rummikub-500-card-game-36/
LOCATION:Bistro
CATEGORIES:Independent Living
END:VEVENT
END:VCALENDAR