BEGIN:VCALENDAR
VERSION:2.0
PRODID:-//Yorkshire of Edina - ECPv6.11.2.1//NONSGML v1.0//EN
CALSCALE:GREGORIAN
METHOD:PUBLISH
X-ORIGINAL-URL:https://yorkshireofedina.com
X-WR-CALDESC:Events for Yorkshire of Edina
REFRESH-INTERVAL;VALUE=DURATION:PT1H
X-Robots-Tag:noindex
X-PUBLISHED-TTL:PT1H
BEGIN:VTIMEZONE
TZID:America/Chicago
BEGIN:DAYLIGHT
TZOFFSETFROM:-0600
TZOFFSETTO:-0500
TZNAME:CDT
DTSTART:20260308T080000
END:DAYLIGHT
BEGIN:STANDARD
TZOFFSETFROM:-0500
TZOFFSETTO:-0600
TZNAME:CST
DTSTART:20261101T070000
END:STANDARD
END:VTIMEZONE
BEGIN:VEVENT
DTSTART;TZID=America/Chicago:20260523T093000
DTEND;TZID=America/Chicago:20260523T103000
DTSTAMP:20260425T085257
CREATED:20260423T161546Z
LAST-MODIFIED:20260424T161603Z
UID:10005084-1779528600-1779532200@yorkshireofedina.com
SUMMARY:Giant Crossword
DESCRIPTION:
URL:https://yorkshireofedina.com/event-calendar/giant-crossword-50/
LOCATION:Community Room
CATEGORIES:Independent Living
END:VEVENT
BEGIN:VEVENT
DTSTART;TZID=America/Chicago:20260523T104500
DTEND;TZID=America/Chicago:20260523T114500
DTSTAMP:20260425T085257
CREATED:20260424T153133Z
LAST-MODIFIED:20260424T153133Z
UID:10005095-1779533100-1779536700@yorkshireofedina.com
SUMMARY:Exercise with Kim
DESCRIPTION:
URL:https://yorkshireofedina.com/event-calendar/exercise-with-kim-13/
LOCATION:TV Room
CATEGORIES:Memory Care
END:VEVENT
BEGIN:VEVENT
DTSTART;TZID=America/Chicago:20260523T123000
DTEND;TZID=America/Chicago:20260523T133000
DTSTAMP:20260425T085257
CREATED:20260424T161603Z
LAST-MODIFIED:20260424T161603Z
UID:10005109-1779539400-1779543000@yorkshireofedina.com
SUMMARY:Rummikub Game
DESCRIPTION:
URL:https://yorkshireofedina.com/event-calendar/rummikub-game-54/
LOCATION:Bistro
CATEGORIES:Independent Living
END:VEVENT
BEGIN:VEVENT
DTSTART;TZID=America/Chicago:20260523T130000
DTEND;TZID=America/Chicago:20260523T140000
DTSTAMP:20260425T085257
CREATED:20260424T161603Z
LAST-MODIFIED:20260424T161603Z
UID:10005110-1779541200-1779544800@yorkshireofedina.com
SUMMARY:Robot Soccer Practice
DESCRIPTION:
URL:https://yorkshireofedina.com/event-calendar/robot-soccer-practice-27/
LOCATION:Bistro
CATEGORIES:Independent Living
END:VEVENT
BEGIN:VEVENT
DTSTART;TZID=America/Chicago:20260523T140000
DTEND;TZID=America/Chicago:20260523T150000
DTSTAMP:20260425T085257
CREATED:20260424T161603Z
LAST-MODIFIED:20260424T161603Z
UID:10005111-1779544800-1779548400@yorkshireofedina.com
SUMMARY:Movie & Popcorn:
DESCRIPTION:
URL:https://yorkshireofedina.com/event-calendar/movie-popcorn-59/
LOCATION:Community Room
CATEGORIES:Independent Living
END:VEVENT
BEGIN:VEVENT
DTSTART;TZID=America/Chicago:20260523T143000
DTEND;TZID=America/Chicago:20260523T153000
DTSTAMP:20260425T085257
CREATED:20260424T153133Z
LAST-MODIFIED:20260424T153133Z
UID:10005096-1779546600-1779550200@yorkshireofedina.com
SUMMARY:Finish The Phrase & Guess the Word
DESCRIPTION:
URL:https://yorkshireofedina.com/event-calendar/finish-the-phrase-guess-the-word-11/
LOCATION:TV Room
CATEGORIES:Memory Care
END:VEVENT
BEGIN:VEVENT
DTSTART;TZID=America/Chicago:20260523T151500
DTEND;TZID=America/Chicago:20260523T161500
DTSTAMP:20260425T085257
CREATED:20260424T153133Z
LAST-MODIFIED:20260424T153133Z
UID:10005097-1779549300-1779552900@yorkshireofedina.com
SUMMARY:Sing A Long
DESCRIPTION:
URL:https://yorkshireofedina.com/event-calendar/sing-a-long-37/
LOCATION:TV Room
CATEGORIES:Memory Care
END:VEVENT
BEGIN:VEVENT
DTSTART;TZID=America/Chicago:20260523T180000
DTEND;TZID=America/Chicago:20260523T190000
DTSTAMP:20260425T085257
CREATED:20260424T153134Z
LAST-MODIFIED:20260424T153134Z
UID:10005098-1779559200-1779562800@yorkshireofedina.com
SUMMARY:Music Relaxation (by Aides)
DESCRIPTION:
URL:https://yorkshireofedina.com/event-calendar/music-relaxation-by-aides-47/
LOCATION:Near Nurse Station
CATEGORIES:Memory Care
END:VEVENT
BEGIN:VEVENT
DTSTART;TZID=America/Chicago:20260523T180000
DTEND;TZID=America/Chicago:20260523T190000
DTSTAMP:20260425T085257
CREATED:20260424T161603Z
LAST-MODIFIED:20260424T161603Z
UID:10005112-1779559200-1779562800@yorkshireofedina.com
SUMMARY:Kings in the Corner Card Game
DESCRIPTION:
URL:https://yorkshireofedina.com/event-calendar/kings-in-the-corner-card-game-108/
LOCATION:Bistro
CATEGORIES:Independent Living
END:VEVENT
BEGIN:VEVENT
DTSTART;TZID=America/Chicago:20260524T093000
DTEND;TZID=America/Chicago:20260524T093000
DTSTAMP:20260425T085257
CREATED:20260424T153134Z
LAST-MODIFIED:20260424T153134Z
UID:10005099-1779615000-1779615000@yorkshireofedina.com
SUMMARY:Church Service by Kim
DESCRIPTION:
URL:https://yorkshireofedina.com/event-calendar/church-service-by-kim-11/
LOCATION:Near Nurse Station
CATEGORIES:Memory Care
END:VEVENT
BEGIN:VEVENT
DTSTART;TZID=America/Chicago:20260524T100000
DTEND;TZID=America/Chicago:20260524T110000
DTSTAMP:20260425T085257
CREATED:20260424T161604Z
LAST-MODIFIED:20260424T161604Z
UID:10005113-1779616800-1779620400@yorkshireofedina.com
SUMMARY:Lutheran Worship Service Live Stream
DESCRIPTION:
URL:https://yorkshireofedina.com/event-calendar/lutheran-worship-service-live-stream-55/
LOCATION:Community Room
CATEGORIES:Independent Living
END:VEVENT
BEGIN:VEVENT
DTSTART;TZID=America/Chicago:20260524T103000
DTEND;TZID=America/Chicago:20260524T113000
DTSTAMP:20260425T085257
CREATED:20260424T153134Z
LAST-MODIFIED:20260424T153134Z
UID:10005100-1779618600-1779622200@yorkshireofedina.com
SUMMARY:Exercise by Kim
DESCRIPTION:
URL:https://yorkshireofedina.com/event-calendar/exercise-by-kim-14/
LOCATION:TV Room
CATEGORIES:Memory Care
END:VEVENT
END:VCALENDAR