BEGIN:VCALENDAR
VERSION:2.0
PRODID:-//Yorkshire of Edina - ECPv6.11.2.1//NONSGML v1.0//EN
CALSCALE:GREGORIAN
METHOD:PUBLISH
X-WR-CALNAME:Yorkshire of Edina
X-ORIGINAL-URL:https://yorkshireofedina.com
X-WR-CALDESC:Events for Yorkshire of Edina
REFRESH-INTERVAL;VALUE=DURATION:PT1H
X-Robots-Tag:noindex
X-PUBLISHED-TTL:PT1H
BEGIN:VTIMEZONE
TZID:America/Chicago
BEGIN:DAYLIGHT
TZOFFSETFROM:-0600
TZOFFSETTO:-0500
TZNAME:CDT
DTSTART:20260308T080000
END:DAYLIGHT
BEGIN:STANDARD
TZOFFSETFROM:-0500
TZOFFSETTO:-0600
TZNAME:CST
DTSTART:20261101T070000
END:STANDARD
END:VTIMEZONE
BEGIN:VEVENT
DTSTART;TZID=America/Chicago:20260523T180000
DTEND;TZID=America/Chicago:20260523T190000
DTSTAMP:20260425T114826
CREATED:20260424T161603Z
LAST-MODIFIED:20260425T161539Z
UID:10005112-1779559200-1779562800@yorkshireofedina.com
SUMMARY:Kings in the Corner Card Game
DESCRIPTION:
URL:https://yorkshireofedina.com/event-calendar/kings-in-the-corner-card-game-108/
LOCATION:Bistro
CATEGORIES:Independent Living
END:VEVENT
BEGIN:VEVENT
DTSTART;TZID=America/Chicago:20260524T093000
DTEND;TZID=America/Chicago:20260524T093000
DTSTAMP:20260425T114826
CREATED:20260424T153134Z
LAST-MODIFIED:20260425T153118Z
UID:10005099-1779615000-1779615000@yorkshireofedina.com
SUMMARY:Church Service by Kim
DESCRIPTION:
URL:https://yorkshireofedina.com/event-calendar/church-service-by-kim-11/
LOCATION:Near Nurse Station
CATEGORIES:Memory Care
END:VEVENT
BEGIN:VEVENT
DTSTART;TZID=America/Chicago:20260524T100000
DTEND;TZID=America/Chicago:20260524T110000
DTSTAMP:20260425T114826
CREATED:20260424T161604Z
LAST-MODIFIED:20260425T161539Z
UID:10005113-1779616800-1779620400@yorkshireofedina.com
SUMMARY:Lutheran Worship Service Live Stream
DESCRIPTION:
URL:https://yorkshireofedina.com/event-calendar/lutheran-worship-service-live-stream-55/
LOCATION:Community Room
CATEGORIES:Independent Living
END:VEVENT
BEGIN:VEVENT
DTSTART;TZID=America/Chicago:20260524T103000
DTEND;TZID=America/Chicago:20260524T113000
DTSTAMP:20260425T114826
CREATED:20260424T153134Z
LAST-MODIFIED:20260425T153118Z
UID:10005100-1779618600-1779622200@yorkshireofedina.com
SUMMARY:Exercise by Kim
DESCRIPTION:
URL:https://yorkshireofedina.com/event-calendar/exercise-by-kim-14/
LOCATION:TV Room
CATEGORIES:Memory Care
END:VEVENT
BEGIN:VEVENT
DTSTART;TZID=America/Chicago:20260524T130000
DTEND;TZID=America/Chicago:20260524T140000
DTSTAMP:20260425T114826
CREATED:20260425T161539Z
LAST-MODIFIED:20260425T161539Z
UID:10005121-1779627600-1779631200@yorkshireofedina.com
SUMMARY:Bingo
DESCRIPTION:
URL:https://yorkshireofedina.com/event-calendar/bingo-184/
LOCATION:Wellness Room
CATEGORIES:Independent Living
END:VEVENT
BEGIN:VEVENT
DTSTART;TZID=America/Chicago:20260524T143000
DTEND;TZID=America/Chicago:20260524T153000
DTSTAMP:20260425T114826
CREATED:20260425T153118Z
LAST-MODIFIED:20260425T153118Z
UID:10005115-1779633000-1779636600@yorkshireofedina.com
SUMMARY:Snack Time With Kim
DESCRIPTION:
URL:https://yorkshireofedina.com/event-calendar/snack-time-with-kim-5/
LOCATION:Garden Room
CATEGORIES:Memory Care
END:VEVENT
BEGIN:VEVENT
DTSTART;TZID=America/Chicago:20260524T151500
DTEND;TZID=America/Chicago:20260524T161500
DTSTAMP:20260425T114826
CREATED:20260425T153118Z
LAST-MODIFIED:20260425T153118Z
UID:10005116-1779635700-1779639300@yorkshireofedina.com
SUMMARY:Bingo
DESCRIPTION:
URL:https://yorkshireofedina.com/event-calendar/bingo-183/
LOCATION:Garden Room
CATEGORIES:Memory Care
END:VEVENT
BEGIN:VEVENT
DTSTART;TZID=America/Chicago:20260524T180000
DTEND;TZID=America/Chicago:20260524T190000
DTSTAMP:20260425T114826
CREATED:20260425T153118Z
LAST-MODIFIED:20260425T153118Z
UID:10005117-1779645600-1779649200@yorkshireofedina.com
SUMMARY:Music Relaxation by Aides
DESCRIPTION:
URL:https://yorkshireofedina.com/event-calendar/music-relaxation-by-aides-49/
LOCATION:Near Nurse Station
CATEGORIES:Memory Care
END:VEVENT
BEGIN:VEVENT
DTSTART;TZID=America/Chicago:20260524T180000
DTEND;TZID=America/Chicago:20260524T190000
DTSTAMP:20260425T114826
CREATED:20260425T161539Z
LAST-MODIFIED:20260425T161539Z
UID:10005122-1779645600-1779649200@yorkshireofedina.com
SUMMARY:500 Card Game
DESCRIPTION:
URL:https://yorkshireofedina.com/event-calendar/500-card-game-72/
LOCATION:Bistro
CATEGORIES:Independent Living
END:VEVENT
BEGIN:VEVENT
DTSTART;TZID=America/Chicago:20260525T093000
DTEND;TZID=America/Chicago:20260525T103000
DTSTAMP:20260425T114826
CREATED:20260425T153118Z
LAST-MODIFIED:20260425T153118Z
UID:10005118-1779701400-1779705000@yorkshireofedina.com
SUMMARY:Music Relaxation
DESCRIPTION:
URL:https://yorkshireofedina.com/event-calendar/music-relaxation-211/
LOCATION:Near Nurse Station
CATEGORIES:Memory Care
END:VEVENT
BEGIN:VEVENT
DTSTART;TZID=America/Chicago:20260525T100000
DTEND;TZID=America/Chicago:20260525T110000
DTSTAMP:20260425T114826
CREATED:20260425T153119Z
LAST-MODIFIED:20260425T153119Z
UID:10005119-1779703200-1779706800@yorkshireofedina.com
SUMMARY:Coffee Social
DESCRIPTION:
URL:https://yorkshireofedina.com/event-calendar/coffee-social-177/
LOCATION:TV Room
CATEGORIES:Memory Care
END:VEVENT
BEGIN:VEVENT
DTSTART;TZID=America/Chicago:20260525T100000
DTEND;TZID=America/Chicago:20260525T110000
DTSTAMP:20260425T114826
CREATED:20260425T161539Z
LAST-MODIFIED:20260425T161539Z
UID:10005123-1779703200-1779706800@yorkshireofedina.com
SUMMARY:Go For a Walk - resident led\, meet at Front Desk
DESCRIPTION:
URL:https://yorkshireofedina.com/event-calendar/go-for-a-walk-resident-led-meet-at-front-desk-2/
LOCATION:Front Desk
CATEGORIES:Independent Living
END:VEVENT
END:VCALENDAR