BEGIN:VCALENDAR
VERSION:2.0
PRODID:-//Yorkshire of Edina - ECPv6.11.2.1//NONSGML v1.0//EN
CALSCALE:GREGORIAN
METHOD:PUBLISH
X-ORIGINAL-URL:https://yorkshireofedina.com
X-WR-CALDESC:Events for Yorkshire of Edina
REFRESH-INTERVAL;VALUE=DURATION:PT1H
X-Robots-Tag:noindex
X-PUBLISHED-TTL:PT1H
BEGIN:VTIMEZONE
TZID:America/Chicago
BEGIN:DAYLIGHT
TZOFFSETFROM:-0600
TZOFFSETTO:-0500
TZNAME:CDT
DTSTART:20260308T080000
END:DAYLIGHT
BEGIN:STANDARD
TZOFFSETFROM:-0500
TZOFFSETTO:-0600
TZNAME:CST
DTSTART:20261101T070000
END:STANDARD
END:VTIMEZONE
BEGIN:VEVENT
DTSTART;TZID=America/Chicago:20260522T163000
DTEND;TZID=America/Chicago:20260522T173000
DTSTAMP:20260423T131107
CREATED:20260423T153117Z
LAST-MODIFIED:20260423T153117Z
UID:10005080-1779467400-1779471000@yorkshireofedina.com
SUMMARY:Oshibori
DESCRIPTION:
URL:https://yorkshireofedina.com/event-calendar/oshibori-445/
LOCATION:Dining Room
CATEGORIES:Memory Care
END:VEVENT
BEGIN:VEVENT
DTSTART;TZID=America/Chicago:20260522T180000
DTEND;TZID=America/Chicago:20260522T184500
DTSTAMP:20260423T131107
CREATED:20260423T153118Z
LAST-MODIFIED:20260423T153118Z
UID:10005081-1779472800-1779475500@yorkshireofedina.com
SUMMARY:Yoga and Armchair Travel with Lisa
DESCRIPTION:
URL:https://yorkshireofedina.com/event-calendar/yoga-and-armchair-travel-with-lisa-54/
LOCATION:TV Room
CATEGORIES:Memory Care
END:VEVENT
BEGIN:VEVENT
DTSTART;TZID=America/Chicago:20260522T180000
DTEND;TZID=America/Chicago:20260522T190000
DTSTAMP:20260423T131107
CREATED:20260423T161546Z
LAST-MODIFIED:20260423T161546Z
UID:10005083-1779472800-1779476400@yorkshireofedina.com
SUMMARY:Dominos Game
DESCRIPTION:
URL:https://yorkshireofedina.com/event-calendar/dominos-game-54/
LOCATION:Bistro
CATEGORIES:Independent Living
END:VEVENT
BEGIN:VEVENT
DTSTART;TZID=America/Chicago:20260523T093000
DTEND;TZID=America/Chicago:20260523T103000
DTSTAMP:20260423T131107
CREATED:20260423T153118Z
LAST-MODIFIED:20260423T153118Z
UID:10005082-1779528600-1779532200@yorkshireofedina.com
SUMMARY:Music Relaxation by Kim
DESCRIPTION:
URL:https://yorkshireofedina.com/event-calendar/music-relaxation-by-kim-11/
LOCATION:Near Nurse Station
CATEGORIES:Memory Care
END:VEVENT
BEGIN:VEVENT
DTSTART;TZID=America/Chicago:20260523T093000
DTEND;TZID=America/Chicago:20260523T103000
DTSTAMP:20260423T131107
CREATED:20260423T161546Z
LAST-MODIFIED:20260423T161546Z
UID:10005084-1779528600-1779532200@yorkshireofedina.com
SUMMARY:Giant Crossword
DESCRIPTION:
URL:https://yorkshireofedina.com/event-calendar/giant-crossword-50/
LOCATION:Community Room
CATEGORIES:Independent Living
END:VEVENT
END:VCALENDAR