BEGIN:VCALENDAR
VERSION:2.0
PRODID:-//Yorkshire of Edina - ECPv6.11.2.1//NONSGML v1.0//EN
CALSCALE:GREGORIAN
METHOD:PUBLISH
X-ORIGINAL-URL:https://yorkshireofedina.com
X-WR-CALDESC:Events for Yorkshire of Edina
REFRESH-INTERVAL;VALUE=DURATION:PT1H
X-Robots-Tag:noindex
X-PUBLISHED-TTL:PT1H
BEGIN:VTIMEZONE
TZID:America/Chicago
BEGIN:DAYLIGHT
TZOFFSETFROM:-0600
TZOFFSETTO:-0500
TZNAME:CDT
DTSTART:20250309T080000
END:DAYLIGHT
BEGIN:STANDARD
TZOFFSETFROM:-0500
TZOFFSETTO:-0600
TZNAME:CST
DTSTART:20251102T070000
END:STANDARD
END:VTIMEZONE
BEGIN:VEVENT
DTSTART;TZID=America/Chicago:20250720T130000
DTEND;TZID=America/Chicago:20250720T140000
DTSTAMP:20260419T152206
CREATED:20250620T180255Z
LAST-MODIFIED:20250719T214539Z
UID:10000824-1753016400-1753020000@yorkshireofedina.com
SUMMARY:Bingo
DESCRIPTION:
URL:https://yorkshireofedina.com/event-calendar/bingo-34/
LOCATION:Wellness Room
CATEGORIES:Assisted Living,Independent Living
END:VEVENT
BEGIN:VEVENT
DTSTART;TZID=America/Chicago:20250717T153000
DTEND;TZID=America/Chicago:20250717T163000
DTSTAMP:20260419T152206
CREATED:20250619T154541Z
LAST-MODIFIED:20250717T194530Z
UID:10000802-1752766200-1752769800@yorkshireofedina.com
SUMMARY:Bingo
DESCRIPTION:
URL:https://yorkshireofedina.com/event-calendar/bingo-33/
LOCATION:Wellness Room
CATEGORIES:Assisted Living,Independent Living
END:VEVENT
BEGIN:VEVENT
DTSTART;TZID=America/Chicago:20250715T141500
DTEND;TZID=America/Chicago:20250715T151500
DTSTAMP:20260419T152206
CREATED:20250630T211527Z
LAST-MODIFIED:20250715T194540Z
UID:10000964-1752588900-1752592500@yorkshireofedina.com
SUMMARY:Tech Tuesday
DESCRIPTION:
URL:https://yorkshireofedina.com/event-calendar/tech-tuesday/
LOCATION:Wellness Room
CATEGORIES:Assisted Living,Independent Living
END:VEVENT
BEGIN:VEVENT
DTSTART;TZID=America/Chicago:20250713T130000
DTEND;TZID=America/Chicago:20250713T140000
DTSTAMP:20260419T152206
CREATED:20250613T193058Z
LAST-MODIFIED:20250712T213037Z
UID:10000733-1752411600-1752415200@yorkshireofedina.com
SUMMARY:Bingo
DESCRIPTION:
URL:https://yorkshireofedina.com/event-calendar/bingo-31/
LOCATION:Wellness Room
CATEGORIES:Assisted Living,Independent Living
END:VEVENT
BEGIN:VEVENT
DTSTART;TZID=America/Chicago:20250710T153000
DTEND;TZID=America/Chicago:20250710T163000
DTSTAMP:20260419T152206
CREATED:20250610T214541Z
LAST-MODIFIED:20250710T193033Z
UID:10000694-1752161400-1752165000@yorkshireofedina.com
SUMMARY:Bingo
DESCRIPTION:
URL:https://yorkshireofedina.com/event-calendar/bingo-29/
LOCATION:Wellness Room
CATEGORIES:Assisted Living,Independent Living
END:VEVENT
BEGIN:VEVENT
DTSTART;TZID=America/Chicago:20250710T100000
DTEND;TZID=America/Chicago:20250710T110000
DTSTAMP:20260419T152206
CREATED:20250610T193108Z
LAST-MODIFIED:20250709T213156Z
UID:10000688-1752141600-1752145200@yorkshireofedina.com
SUMMARY:Catholic Communion
DESCRIPTION:
URL:https://yorkshireofedina.com/event-calendar/catholic-communion-7/
LOCATION:Wellness Room
CATEGORIES:Assisted Living,Independent Living
END:VEVENT
BEGIN:VEVENT
DTSTART;TZID=America/Chicago:20250708T150000
DTEND;TZID=America/Chicago:20250708T160000
DTSTAMP:20260419T152206
CREATED:20250610T193108Z
LAST-MODIFIED:20250708T191806Z
UID:10000685-1751986800-1751990400@yorkshireofedina.com
SUMMARY:Book Club
DESCRIPTION:
URL:https://yorkshireofedina.com/event-calendar/book-club-4/
LOCATION:Wellness Room
CATEGORIES:Assisted Living,Independent Living
END:VEVENT
BEGIN:VEVENT
DTSTART;TZID=America/Chicago:20250706T130000
DTEND;TZID=America/Chicago:20250706T140000
DTSTAMP:20260419T152206
CREATED:20250606T193153Z
LAST-MODIFIED:20250705T211538Z
UID:10000643-1751806800-1751810400@yorkshireofedina.com
SUMMARY:Bingo
DESCRIPTION:
URL:https://yorkshireofedina.com/event-calendar/bingo-27/
LOCATION:Wellness Room
CATEGORIES:Assisted Living,Independent Living
END:VEVENT
BEGIN:VEVENT
DTSTART;TZID=America/Chicago:20250629T130000
DTEND;TZID=America/Chicago:20250629T140000
DTSTAMP:20260419T152206
CREATED:20250530T191609Z
LAST-MODIFIED:20250628T211627Z
UID:10000562-1751202000-1751205600@yorkshireofedina.com
SUMMARY:Bingo
DESCRIPTION:
URL:https://yorkshireofedina.com/event-calendar/bingo-25/
LOCATION:Wellness Room
CATEGORIES:Assisted Living,Independent Living
END:VEVENT
BEGIN:VEVENT
DTSTART;TZID=America/Chicago:20250626T090000
DTEND;TZID=America/Chicago:20250626T160000
DTSTAMP:20260419T152206
CREATED:20250527T213304Z
LAST-MODIFIED:20250619T191620Z
UID:10000511-1750928400-1750953600@yorkshireofedina.com
SUMMARY:DHS training in WR
DESCRIPTION:
URL:https://yorkshireofedina.com/event-calendar/dhs-training-in-wr-3/
LOCATION:Wellness Room
CATEGORIES:Assisted Living,Independent Living
END:VEVENT
BEGIN:VEVENT
DTSTART;TZID=America/Chicago:20250625T090000
DTEND;TZID=America/Chicago:20250625T160000
DTSTAMP:20260419T152206
CREATED:20250526T211644Z
LAST-MODIFIED:20250619T191620Z
UID:10000488-1750842000-1750867200@yorkshireofedina.com
SUMMARY:DHS training in WR
DESCRIPTION:
URL:https://yorkshireofedina.com/event-calendar/dhs-training-in-wr-2/
LOCATION:Wellness Room
CATEGORIES:Assisted Living,Independent Living
END:VEVENT
BEGIN:VEVENT
DTSTART;TZID=America/Chicago:20250624T090000
DTEND;TZID=America/Chicago:20250624T160000
DTSTAMP:20260419T152206
CREATED:20250525T210248Z
LAST-MODIFIED:20250619T191620Z
UID:10000482-1750755600-1750780800@yorkshireofedina.com
SUMMARY:DHS training in WR
DESCRIPTION:
URL:https://yorkshireofedina.com/event-calendar/dhs-training-in-wr/
LOCATION:Wellness Room
CATEGORIES:Assisted Living,Independent Living
END:VEVENT
BEGIN:VEVENT
DTSTART;TZID=America/Chicago:20250622T130000
DTEND;TZID=America/Chicago:20250622T140000
DTSTAMP:20260419T152206
CREATED:20250523T203604Z
LAST-MODIFIED:20250621T211608Z
UID:10000467-1750597200-1750600800@yorkshireofedina.com
SUMMARY:Bingo
DESCRIPTION:
URL:https://yorkshireofedina.com/event-calendar/bingo-21/
LOCATION:Wellness Room
CATEGORIES:Assisted Living,Independent Living
END:VEVENT
BEGIN:VEVENT
DTSTART;TZID=America/Chicago:20250619T153000
DTEND;TZID=America/Chicago:20250619T163000
DTSTAMP:20260419T152206
CREATED:20250521T200559Z
LAST-MODIFIED:20250612T214705Z
UID:10000437-1750347000-1750350600@yorkshireofedina.com
SUMMARY:Bingo
DESCRIPTION:
URL:https://yorkshireofedina.com/event-calendar/bingo-20/
LOCATION:Wellness Room
CATEGORIES:Assisted Living,Independent Living
END:VEVENT
BEGIN:VEVENT
DTSTART;TZID=America/Chicago:20250619T140000
DTEND;TZID=America/Chicago:20250619T160000
DTSTAMP:20260419T152206
CREATED:20250523T203537Z
LAST-MODIFIED:20250619T204638Z
UID:10000464-1750341600-1750348800@yorkshireofedina.com
SUMMARY:Art Class w/ JBo Instructor (watercolor painting)
DESCRIPTION:
URL:https://yorkshireofedina.com/event-calendar/art-class-w-jbo-2/
LOCATION:Wellness Room
CATEGORIES:Assisted Living,Independent Living
END:VEVENT
BEGIN:VEVENT
DTSTART;TZID=America/Chicago:20250618T133000
DTEND;TZID=America/Chicago:20250618T143000
DTSTAMP:20260419T152206
CREATED:20250613T193054Z
LAST-MODIFIED:20250615T214542Z
UID:10000729-1750253400-1750257000@yorkshireofedina.com
SUMMARY:Bingo
DESCRIPTION:
URL:https://yorkshireofedina.com/event-calendar/bingo-30/
LOCATION:Wellness Room
CATEGORIES:Assisted Living,Independent Living
END:VEVENT
BEGIN:VEVENT
DTSTART;TZID=America/Chicago:20250618T100000
DTEND;TZID=America/Chicago:20250618T110000
DTSTAMP:20260419T152206
CREATED:20250519T200035Z
LAST-MODIFIED:20250615T214542Z
UID:10000399-1750240800-1750244400@yorkshireofedina.com
SUMMARY:Exercise: Bands by Buzz
DESCRIPTION:
URL:https://yorkshireofedina.com/event-calendar/exercise-bands-5/
LOCATION:Wellness Room
CATEGORIES:Assisted Living,Independent Living
END:VEVENT
BEGIN:VEVENT
DTSTART;TZID=America/Chicago:20250617T153000
DTEND;TZID=America/Chicago:20250617T163000
DTSTAMP:20260419T152206
CREATED:20250519T200035Z
LAST-MODIFIED:20250520T200110Z
UID:10000396-1750174200-1750177800@yorkshireofedina.com
SUMMARY:Bingo
DESCRIPTION:
URL:https://yorkshireofedina.com/event-calendar/bingo-19/
LOCATION:Wellness Room
CATEGORIES:Assisted Living
END:VEVENT
BEGIN:VEVENT
DTSTART;TZID=America/Chicago:20250615T130000
DTEND;TZID=America/Chicago:20250615T140000
DTSTAMP:20260419T152206
CREATED:20250516T195724Z
LAST-MODIFIED:20250614T214546Z
UID:10000169-1749992400-1749996000@yorkshireofedina.com
SUMMARY:Bingo
DESCRIPTION:
URL:https://yorkshireofedina.com/event-calendar/bingo-13/
LOCATION:Wellness Room
CATEGORIES:Assisted Living,Independent Living
END:VEVENT
BEGIN:VEVENT
DTSTART;TZID=America/Chicago:20250612T153000
DTEND;TZID=America/Chicago:20250612T163000
DTSTAMP:20260419T152206
CREATED:20250516T195724Z
LAST-MODIFIED:20250529T214544Z
UID:10000154-1749742200-1749745800@yorkshireofedina.com
SUMMARY:Bingo
DESCRIPTION:
URL:https://yorkshireofedina.com/event-calendar/bingo-12/
LOCATION:Wellness Room
CATEGORIES:Assisted Living,Independent Living
END:VEVENT
BEGIN:VEVENT
DTSTART;TZID=America/Chicago:20250612T100000
DTEND;TZID=America/Chicago:20250612T110000
DTSTAMP:20260419T152206
CREATED:20250516T195724Z
LAST-MODIFIED:20250611T214536Z
UID:10000151-1749722400-1749726000@yorkshireofedina.com
SUMMARY:Catholic Communion
DESCRIPTION:
URL:https://yorkshireofedina.com/event-calendar/catholic-communion-2/
LOCATION:Wellness Room
CATEGORIES:Assisted Living,Independent Living
END:VEVENT
BEGIN:VEVENT
DTSTART;TZID=America/Chicago:20250610T153000
DTEND;TZID=America/Chicago:20250610T163000
DTSTAMP:20260419T152206
CREATED:20250516T195723Z
LAST-MODIFIED:20250520T200108Z
UID:10000141-1749569400-1749573000@yorkshireofedina.com
SUMMARY:Bingo
DESCRIPTION:
URL:https://yorkshireofedina.com/event-calendar/bingo-11/
LOCATION:Wellness Room
CATEGORIES:Assisted Living
END:VEVENT
BEGIN:VEVENT
DTSTART;TZID=America/Chicago:20250608T130000
DTEND;TZID=America/Chicago:20250608T140000
DTSTAMP:20260419T152206
CREATED:20250516T195723Z
LAST-MODIFIED:20250607T214540Z
UID:10000130-1749387600-1749391200@yorkshireofedina.com
SUMMARY:Bingo
DESCRIPTION:
URL:https://yorkshireofedina.com/event-calendar/bingo-10/
LOCATION:Wellness Room
CATEGORIES:Assisted Living,Independent Living
END:VEVENT
BEGIN:VEVENT
DTSTART;TZID=America/Chicago:20250608T093000
DTEND;TZID=America/Chicago:20250608T103000
DTSTAMP:20260419T152206
CREATED:20250604T214539Z
LAST-MODIFIED:20250606T193151Z
UID:10000622-1749375000-1749378600@yorkshireofedina.com
SUMMARY:Catholic Mass
DESCRIPTION:
URL:https://yorkshireofedina.com/event-calendar/catholic-mass-2/
LOCATION:Wellness Room
CATEGORIES:Assisted Living,Independent Living
END:VEVENT
BEGIN:VEVENT
DTSTART;TZID=America/Chicago:20250605T153000
DTEND;TZID=America/Chicago:20250605T163000
DTSTAMP:20260419T152206
CREATED:20250516T195722Z
LAST-MODIFIED:20250605T193215Z
UID:10000115-1749137400-1749141000@yorkshireofedina.com
SUMMARY:Bingo
DESCRIPTION:
URL:https://yorkshireofedina.com/event-calendar/bingo-9/
LOCATION:Wellness Room
CATEGORIES:Assisted Living,Independent Living
END:VEVENT
BEGIN:VEVENT
DTSTART;TZID=America/Chicago:20250603T153000
DTEND;TZID=America/Chicago:20250603T163000
DTSTAMP:20260419T152206
CREATED:20250516T195721Z
LAST-MODIFIED:20250520T200107Z
UID:10000103-1748964600-1748968200@yorkshireofedina.com
SUMMARY:Bingo
DESCRIPTION:
URL:https://yorkshireofedina.com/event-calendar/bingo-8/
LOCATION:Wellness Room
CATEGORIES:Assisted Living
END:VEVENT
BEGIN:VEVENT
DTSTART;TZID=America/Chicago:20250601T130000
DTEND;TZID=America/Chicago:20250601T140000
DTSTAMP:20260419T152206
CREATED:20250516T195721Z
LAST-MODIFIED:20250531T214532Z
UID:10000092-1748782800-1748786400@yorkshireofedina.com
SUMMARY:Bingo
DESCRIPTION:
URL:https://yorkshireofedina.com/event-calendar/bingo-7/
LOCATION:Wellness Room
CATEGORIES:Assisted Living,Independent Living
END:VEVENT
BEGIN:VEVENT
DTSTART;TZID=America/Chicago:20250529T153000
DTEND;TZID=America/Chicago:20250529T163000
DTSTAMP:20260419T152206
CREATED:20250516T195720Z
LAST-MODIFIED:20250529T191530Z
UID:10000078-1748532600-1748536200@yorkshireofedina.com
SUMMARY:Bingo
DESCRIPTION:
URL:https://yorkshireofedina.com/event-calendar/bingo-6/
LOCATION:Wellness Room
CATEGORIES:Assisted Living,Independent Living
END:VEVENT
BEGIN:VEVENT
DTSTART;TZID=America/Chicago:20250527T153000
DTEND;TZID=America/Chicago:20250527T163000
DTSTAMP:20260419T152206
CREATED:20250516T195720Z
LAST-MODIFIED:20250522T201621Z
UID:10000066-1748359800-1748363400@yorkshireofedina.com
SUMMARY:Bingo
DESCRIPTION:
URL:https://yorkshireofedina.com/event-calendar/bingo-5/
LOCATION:Wellness Room
CATEGORIES:Assisted Living
END:VEVENT
BEGIN:VEVENT
DTSTART;TZID=America/Chicago:20250525T130000
DTEND;TZID=America/Chicago:20250525T140000
DTSTAMP:20260419T152206
CREATED:20250516T195719Z
LAST-MODIFIED:20250524T204544Z
UID:10000053-1748178000-1748181600@yorkshireofedina.com
SUMMARY:Bingo
DESCRIPTION:
URL:https://yorkshireofedina.com/event-calendar/bingo-4/
LOCATION:Wellness Room
CATEGORIES:Assisted Living
END:VEVENT
END:VCALENDAR